BEGIN:VCALENDAR
VERSION:2.0
PRODID:-//Eist Carlow Cancer Support Centre - ECPv4.6.2//NONSGML v1.0//EN
CALSCALE:GREGORIAN
METHOD:PUBLISH
X-WR-CALNAME:Eist Carlow Cancer Support Centre
X-ORIGINAL-URL:http://eistcarlowcancersupport.ie
X-WR-CALDESC:Events for Eist Carlow Cancer Support Centre
BEGIN:VEVENT
DTSTART;TZID=UTC+0:20170914T103000
DTEND;TZID=UTC+0:20170914T120000
DTSTAMP:20171107T130149
CREATED:20160519T145306Z
LAST-MODIFIED:20170901T114220Z
UID:635-1505385000-1505390400@eistcarlowcancersupport.ie
SUMMARY:Gentle Exercise - Yoga
DESCRIPTION:Gentle Exercise &#8211; Yoga from 10.30am – 12.00pm. \nPlease contact Éist on 059 9139684 for more details. \n
URL:http://eistcarlowcancersupport.ie/event/gentle-exercise-yoga-6/
END:VEVENT
END:VCALENDAR