BEGIN:VCALENDAR
VERSION:2.0
PRODID:-//Eist Carlow Cancer Support Centre - ECPv4.6.2//NONSGML v1.0//EN
CALSCALE:GREGORIAN
METHOD:PUBLISH
X-WR-CALNAME:Eist Carlow Cancer Support Centre
X-ORIGINAL-URL:http://eistcarlowcancersupport.ie
X-WR-CALDESC:Events for Eist Carlow Cancer Support Centre
BEGIN:VEVENT
DTSTART;TZID=UTC+0:20170913T100000
DTEND;TZID=UTC+0:20170913T120000
DTSTAMP:20171107T130132
CREATED:20161214T123357Z
LAST-MODIFIED:20170901T115330Z
UID:936-1505296800-1505304000@eistcarlowcancersupport.ie
SUMMARY:Bereavement Support Group
DESCRIPTION:The Bereavement Support Group meets every second Wednesday morning from 10.00am – 12.00pm.\nThe Bereavement Support Group provides support to those bereaved and helps clients work through their journey of grief and loss. \nPlease contact Éist on 059 9139684 for more information. \n
URL:http://eistcarlowcancersupport.ie/event/bereavement-support-group-11/
LOCATION:Eist Cancer Support Centre\, The Waterfront Mill Lane\, Carlow\, Ireland
END:VEVENT
END:VCALENDAR