BEGIN:VCALENDAR
VERSION:2.0
PRODID:-//Eist Carlow Cancer Support Centre - ECPv4.6.2//NONSGML v1.0//EN
CALSCALE:GREGORIAN
METHOD:PUBLISH
X-WR-CALNAME:Eist Carlow Cancer Support Centre
X-ORIGINAL-URL:http://eistcarlowcancersupport.ie
X-WR-CALDESC:Events for Eist Carlow Cancer Support Centre
BEGIN:VEVENT
DTSTART;TZID=UTC+0:20170912T100000
DTEND;TZID=UTC+0:20170912T113000
DTSTAMP:20171107T130115
CREATED:20160908T140134Z
LAST-MODIFIED:20170714T093257Z
UID:768-1505210400-1505215800@eistcarlowcancersupport.ie
SUMMARY:Women’s Support Group
DESCRIPTION:The Women’s Support Group meets every Second Tuesday from 10.00am – 11.30am.\nSupport group for Women with a cancer diagnosis and Female Cancer survivors. \nPlease contact Éist on 059 9139684 for more details. \n
URL:http://eistcarlowcancersupport.ie/event/womens-support-group-3/
LOCATION:Eist Cancer Support Centre\, The Waterfront Mill Lane\, Carlow\, Ireland
END:VEVENT
BEGIN:VEVENT
DTSTART;TZID=UTC+0:20170912T140000
DTEND;TZID=UTC+0:20170912T153000
DTSTAMP:20171107T130115
CREATED:20161214T115349Z
LAST-MODIFIED:20170901T114815Z
UID:927-1505224800-1505230200@eistcarlowcancersupport.ie
SUMMARY:Men's Support Group
DESCRIPTION:The Men’s Support Group meets every Second Tuesday from 2.00pm – 3.30pm\nSupport group for Men with a cancer diagnosis and Male cancer survivors.  \nPlease contact Éist on 059 9139684 for more details. \n
URL:http://eistcarlowcancersupport.ie/event/mens-support-group-10/
LOCATION:Eist Cancer Support Centre\, The Waterfront Mill Lane\, Carlow\, Ireland
END:VEVENT
END:VCALENDAR