BEGIN:VCALENDAR
VERSION:2.0
PRODID:-//Eist Carlow Cancer Support Centre - ECPv4.6.2//NONSGML v1.0//EN
CALSCALE:GREGORIAN
METHOD:PUBLISH
X-WR-CALNAME:Eist Carlow Cancer Support Centre
X-ORIGINAL-URL:http://eistcarlowcancersupport.ie
X-WR-CALDESC:Events for Eist Carlow Cancer Support Centre
BEGIN:VEVENT
DTSTART;TZID=UTC+0:20171024T100000
DTEND;TZID=UTC+0:20171024T113000
DTSTAMP:20171107T124103
CREATED:20170428T115823Z
LAST-MODIFIED:20170714T093754Z
UID:1081-1508839200-1508844600@eistcarlowcancersupport.ie
SUMMARY:Womenâ€™s Support Group
DESCRIPTION:The Womenâ€™s Support Group meets every Second TuesdayÂ fromÂ 10.00am â€“ 11.30am\nSupport group for Women with a cancer diagnosis and Female Cancer survivors. \nPlease contact Ã‰ist on 059 9139684 for more details. \n  \n
URL:http://eistcarlowcancersupport.ie/event/womens-support-group-12/
LOCATION:Eist Cancer Support Centre\, The Waterfront Mill Lane\, Carlow\, Ireland
END:VEVENT
END:VCALENDAR