BEGIN:VCALENDAR
VERSION:2.0
PRODID:-//Eist Carlow Cancer Support Centre - ECPv4.6.2//NONSGML v1.0//EN
CALSCALE:GREGORIAN
METHOD:PUBLISH
X-WR-CALNAME:Eist Carlow Cancer Support Centre
X-ORIGINAL-URL:http://eistcarlowcancersupport.ie
X-WR-CALDESC:Events for Eist Carlow Cancer Support Centre
BEGIN:VEVENT
DTSTART;TZID=UTC+0:20171003T150000
DTEND;TZID=UTC+0:20171003T170000
DTSTAMP:20171107T123711
CREATED:20171019T143206Z
LAST-MODIFIED:20171019T143206Z
UID:1319-1507042800-1507050000@eistcarlowcancersupport.ie
SUMMARY:Strength & Conditioning Class at the Institute of Technology Carlow
DESCRIPTION:Strength & Conditioning Class &#8211; Starting on Tuesday 3rd October from 3.00pm &#8211; 5.00pm for eight weeks at the Institute of Technology Carlow. \nFor more information on the Strength & Conditioning Class please contact the Ã‰ist Cancer Support Centre on 059 91 39684 or e-mail info@eistcarlowcancersupport.ie \n  \n  \n
URL:http://eistcarlowcancersupport.ie/event/strength-conditioning-class-institute-technology-carlow/
LOCATION:Kilkenny Road\, Carlow\, Ireland
END:VEVENT
END:VCALENDAR