BEGIN:VCALENDAR
VERSION:2.0
PRODID:-//Eist Carlow Cancer Support Centre - ECPv4.6.2//NONSGML v1.0//EN
CALSCALE:GREGORIAN
METHOD:PUBLISH
X-WR-CALNAME:Eist Carlow Cancer Support Centre
X-ORIGINAL-URL:http://eistcarlowcancersupport.ie
X-WR-CALDESC:Events for Eist Carlow Cancer Support Centre
BEGIN:VEVENT
DTSTART;TZID=UTC+0:20171010T140000
DTEND;TZID=UTC+0:20171010T153000
DTSTAMP:20171107T123836
CREATED:20150626T140647Z
LAST-MODIFIED:20170929T113622Z
UID:365-1507644000-1507649400@eistcarlowcancersupport.ie
SUMMARY:Men's Support Group
DESCRIPTION:The Menâ€™s Support Group meets every Second TuesdayÂ fromÂ 2.00pm â€“ 3.30pm\nSupport group for Men with a cancer diagnosis and Male cancer survivors.  \nPlease contact Ã‰ist on 059 9139684 for more details. \n  \n
URL:http://eistcarlowcancersupport.ie/event/mens-support-group-5/
END:VEVENT
END:VCALENDAR