BEGIN:VCALENDAR
VERSION:2.0
PRODID:-//Eist Carlow Cancer Support Centre - ECPv4.6.2//NONSGML v1.0//EN
CALSCALE:GREGORIAN
METHOD:PUBLISH
X-WR-CALNAME:Eist Carlow Cancer Support Centre
X-ORIGINAL-URL:http://eistcarlowcancersupport.ie
X-WR-CALDESC:Events for Eist Carlow Cancer Support Centre
BEGIN:VEVENT
DTSTART;TZID=UTC+0:20160926T113000
DTEND;TZID=UTC+0:20160926T130000
DTSTAMP:20171107T125328
CREATED:20160519T134040Z
LAST-MODIFIED:20160519T134040Z
UID:611-1474889400-1474894800@eistcarlowcancersupport.ie
SUMMARY:Men's Bridge Class - Beginners
DESCRIPTION:
URL:http://eistcarlowcancersupport.ie/event/mens-bridge-class-beginners-15/
END:VEVENT
END:VCALENDAR