BEGIN:VCALENDAR
VERSION:2.0
PRODID:-//Eist Carlow Cancer Support Centre - ECPv4.6.2//NONSGML v1.0//EN
CALSCALE:GREGORIAN
METHOD:PUBLISH
X-WR-CALNAME:Eist Carlow Cancer Support Centre
X-ORIGINAL-URL:http://eistcarlowcancersupport.ie
X-WR-CALDESC:Events for Eist Carlow Cancer Support Centre
BEGIN:VEVENT
DTSTART;VALUE=DATE:20150806
DTEND;VALUE=DATE:20150807
DTSTAMP:20171107T125211
CREATED:20150806T111208Z
LAST-MODIFIED:20150806T111213Z
UID:449-1438819200-1438905599@eistcarlowcancersupport.ie
SUMMARY:Kilgraney House - Art with Gethyn Gibson
DESCRIPTION: \nThank You to Gethyn Gibson for providing a wonderful day of art at Kilgraney House on Thursday 30th July and for donating the proceeds of the day to Eist Cancer Support Centre. Here is a lovely picture of Gethyn donating €500.00 to Ann O Neill. Special thanks also must go to Bryan Leech and Martin Marley owners of Kilgraney House for their kind generosity and hospitality! www.kilgraneyhouce.com \n
URL:http://eistcarlowcancersupport.ie/event/kilgraney-house-art-with-gethyn-gibson/
LOCATION:Eist Cancer Support Centre\, The Waterfront Mill Lane\, Carlow\, Ireland
END:VEVENT
END:VCALENDAR