BEGIN:VCALENDAR
VERSION:2.0
PRODID:-//Eist Carlow Cancer Support Centre - ECPv4.6.2//NONSGML v1.0//EN
CALSCALE:GREGORIAN
METHOD:PUBLISH
X-WR-CALNAME:Eist Carlow Cancer Support Centre
X-ORIGINAL-URL:http://eistcarlowcancersupport.ie
X-WR-CALDESC:Events for Eist Carlow Cancer Support Centre
BEGIN:VEVENT
DTSTART;TZID=UTC+0:20160928T140000
DTEND;TZID=UTC+0:20160928T153000
DTSTAMP:20171107T125423
CREATED:20160908T151811Z
LAST-MODIFIED:20160908T151811Z
UID:780-1475071200-1475076600@eistcarlowcancersupport.ie
SUMMARY:Jewellery Making Class
DESCRIPTION:Jewellery Making Class starting on Wednesday 21st September @ 2.00pm – 3.30pm for six weeks. \n
URL:http://eistcarlowcancersupport.ie/event/jewellery-making-class/
LOCATION:Eist Cancer Support Centre\, The Waterfront Mill Lane\, Carlow\, Ireland
END:VEVENT
END:VCALENDAR