BEGIN:VCALENDAR
VERSION:2.0
PRODID:-//Eist Carlow Cancer Support Centre - ECPv4.6.2//NONSGML v1.0//EN
CALSCALE:GREGORIAN
METHOD:PUBLISH
X-WR-CALNAME:Eist Carlow Cancer Support Centre
X-ORIGINAL-URL:http://eistcarlowcancersupport.ie
X-WR-CALDESC:Events for Eist Carlow Cancer Support Centre
BEGIN:VEVENT
DTSTART;TZID=UTC+0:20171026T103000
DTEND;TZID=UTC+0:20171026T120000
DTSTAMP:20171107T124226
CREATED:20170502T120034Z
LAST-MODIFIED:20171019T145311Z
UID:1119-1509013800-1509019200@eistcarlowcancersupport.ie
SUMMARY:Gentle Exercise - Yoga
DESCRIPTION:Gentle Exercise &#8211; Yoga from 10.30am – 12.00pm.\nPlease contact the Éist Centre on 059 91 39684 for more details. \n
URL:http://eistcarlowcancersupport.ie/event/gentle-exercise-yoga-10/
LOCATION:Eist Cancer Support Centre\, The Waterfront Mill Lane\, Carlow\, Ireland
END:VEVENT
END:VCALENDAR