BEGIN:VCALENDAR
VERSION:2.0
PRODID:-//Eist Carlow Cancer Support Centre - ECPv4.6.2//NONSGML v1.0//EN
CALSCALE:GREGORIAN
METHOD:PUBLISH
X-WR-CALNAME:Eist Carlow Cancer Support Centre
X-ORIGINAL-URL:http://eistcarlowcancersupport.ie
X-WR-CALDESC:Events for Eist Carlow Cancer Support Centre
BEGIN:VEVENT
DTSTART;TZID=UTC+0:20171025T100000
DTEND;TZID=UTC+0:20171025T120000
DTSTAMP:20171107T124205
CREATED:20150626T141013Z
LAST-MODIFIED:20171019T115914Z
UID:368-1508925600-1508932800@eistcarlowcancersupport.ie
SUMMARY:Bereavement Support Group
DESCRIPTION:The Bereavement Support Group meets every second Wednesday morning from 10.00am – 12.00pm.\nThe Bereavement Support Group provides support to those bereaved and helps clients work through their journey of grief and loss.\nPlease contact the Éist Centre on 059 9139684 for more information. \n
URL:http://eistcarlowcancersupport.ie/event/bereavement-support-group-6/
LOCATION:Eist Cancer Support Centre\, The Waterfront Mill Lane\, Carlow\, Ireland
END:VEVENT
END:VCALENDAR