BEGIN:VCALENDAR
VERSION:2.0
PRODID:-//Eist Carlow Cancer Support Centre - ECPv4.6.2//NONSGML v1.0//EN
CALSCALE:GREGORIAN
METHOD:PUBLISH
X-WR-CALNAME:Eist Carlow Cancer Support Centre
X-ORIGINAL-URL:http://eistcarlowcancersupport.ie
X-WR-CALDESC:Events for Eist Carlow Cancer Support Centre
BEGIN:VEVENT
DTSTART;TZID=UTC+0:20150722T103000
DTEND;TZID=UTC+0:20150722T120000
DTSTAMP:20171107T125113
CREATED:20150625T093252Z
LAST-MODIFIED:20150626T124423Z
UID:338-1437561000-1437566400@eistcarlowcancersupport.ie
SUMMARY:Beginners Zumba Class
DESCRIPTION:Beginners Zumba Class \n
URL:http://eistcarlowcancersupport.ie/event/beginners-zumba-class-4/
LOCATION:Eist Cancer Support Centre\, The Waterfront Mill Lane\, Carlow\, Ireland
END:VEVENT
END:VCALENDAR